BEGIN:VCALENDAR
VERSION:2.0
PRODID:-//Ashford &amp; Staines Community Centre - ECPv6.15.15//NONSGML v1.0//EN
CALSCALE:GREGORIAN
METHOD:PUBLISH
X-ORIGINAL-URL:https://ascc.uk.com
X-WR-CALDESC:Events for Ashford &amp; Staines Community Centre
REFRESH-INTERVAL;VALUE=DURATION:PT1H
X-Robots-Tag:noindex
X-PUBLISHED-TTL:PT1H
BEGIN:VTIMEZONE
TZID:UTC
BEGIN:STANDARD
TZOFFSETFROM:+0000
TZOFFSETTO:+0000
TZNAME:UTC
DTSTART:20240101T000000
END:STANDARD
END:VTIMEZONE
BEGIN:VEVENT
DTSTART;TZID=UTC:20250510T133000
DTEND;TZID=UTC:20250510T150000
DTSTAMP:20260423T221705
CREATED:20250525T134852Z
LAST-MODIFIED:20250525T143709Z
UID:3283-1746883800-1746889200@ascc.uk.com
SUMMARY:Gathering of Love
DESCRIPTION:
URL:https://ascc.uk.com/event/gathering-of-love-4/
LOCATION:Ashford & Staines Community Centre\, 774 London Rd\, Ashford\, TW14 8FP\, United Kingdom
CATEGORIES:Event
END:VEVENT
BEGIN:VEVENT
DTSTART;TZID=UTC:20250428T200000
DTEND;TZID=UTC:20250428T213000
DTSTAMP:20260423T221705
CREATED:20250511T174748Z
LAST-MODIFIED:20250511T174933Z
UID:3261-1745870400-1745875800@ascc.uk.com
SUMMARY:Madinah Arabic Level 1 Brothers
DESCRIPTION:
URL:https://ascc.uk.com/event/madinah-arabic-level-1-brothers/
LOCATION:Ashford & Staines Community Centre\, 774 London Rd\, Ashford\, TW14 8FP\, United Kingdom
CATEGORIES:Classes
END:VEVENT
BEGIN:VEVENT
DTSTART;TZID=UTC:20250513T193000
DTEND;TZID=UTC:20250513T210000
DTSTAMP:20260423T221705
CREATED:20250511T184047Z
LAST-MODIFIED:20250511T184303Z
UID:3280-1747164600-1747170000@ascc.uk.com
SUMMARY:Madinah Level 4 Arabic Brothers Only
DESCRIPTION:
URL:https://ascc.uk.com/event/madinah-level-4-arabic/
LOCATION:Ashford & Staines Community Centre\, 774 London Rd\, Ashford\, TW14 8FP\, United Kingdom
CATEGORIES:Classes
END:VEVENT
BEGIN:VEVENT
DTSTART;TZID=UTC:20250402T193000
DTEND;TZID=UTC:20250402T213000
DTSTAMP:20260423T221705
CREATED:20250511T183757Z
LAST-MODIFIED:20250511T183757Z
UID:3277-1743622200-1743629400@ascc.uk.com
SUMMARY:Madinah Arabic Level 8
DESCRIPTION:
URL:https://ascc.uk.com/event/madinah-arabic-level-8/
LOCATION:Ashford & Staines Community Centre\, 774 London Rd\, Ashford\, TW14 8FP\, United Kingdom
CATEGORIES:Classes
END:VEVENT
BEGIN:VEVENT
DTSTART;TZID=UTC:20250410T040000
DTEND;TZID=UTC:20250410T050000
DTSTAMP:20260423T221705
CREATED:20250511T180012Z
LAST-MODIFIED:20250525T142553Z
UID:3268-1744257600-1744261200@ascc.uk.com
SUMMARY:A Year With The Qur'an
DESCRIPTION:The class time varies weekly; starts 15minutes after the Fajr jamaah at the Masjid\, and lasts for one hour.
URL:https://ascc.uk.com/event/a-year-with-the-quran/
LOCATION:Ashford & Staines Community Centre\, 774 London Rd\, Ashford\, TW14 8FP\, United Kingdom
CATEGORIES:Classes
END:VEVENT
BEGIN:VEVENT
DTSTART;TZID=UTC:20250117T193000
DTEND;TZID=UTC:20250117T220000
DTSTAMP:20260423T221705
CREATED:20250428T220404Z
LAST-MODIFIED:20250525T143407Z
UID:3217-1737142200-1737151200@ascc.uk.com
SUMMARY:Masjid Youth Society: Brothers Halaqa
DESCRIPTION:
URL:https://ascc.uk.com/event/mysoc-brothers-halaqa/
LOCATION:Ashford & Staines Community Centre\, 774 London Rd\, Ashford\, TW14 8FP\, United Kingdom
CATEGORIES:Event
END:VEVENT
BEGIN:VEVENT
DTSTART;TZID=UTC:20250104T100000
DTEND;TZID=UTC:20250104T123000
DTSTAMP:20260423T221705
CREATED:20250508T090255Z
LAST-MODIFIED:20250613T151434Z
UID:3227-1735984800-1735993800@ascc.uk.com
SUMMARY:Adult Islamic Studies
DESCRIPTION:
URL:https://ascc.uk.com/event/islamic-studies/
LOCATION:Ashford & Staines Community Centre\, 774 London Rd\, Ashford\, TW14 8FP\, United Kingdom
CATEGORIES:Classes
END:VEVENT
BEGIN:VEVENT
DTSTART;TZID=UTC:20250428T200000
DTEND;TZID=UTC:20250428T213000
DTSTAMP:20260423T221705
CREATED:20250511T174748Z
LAST-MODIFIED:20250511T174933Z
UID:3261-1745870400-1745875800@ascc.uk.com
SUMMARY:Madinah Arabic Level 1 Brothers
DESCRIPTION:
URL:https://ascc.uk.com/event/madinah-arabic-level-1-brothers/
LOCATION:Ashford & Staines Community Centre\, 774 London Rd\, Ashford\, TW14 8FP\, United Kingdom
CATEGORIES:Classes
END:VEVENT
BEGIN:VEVENT
DTSTART;TZID=UTC:20250513T193000
DTEND;TZID=UTC:20250513T210000
DTSTAMP:20260423T221705
CREATED:20250511T184047Z
LAST-MODIFIED:20250511T184303Z
UID:3280-1747164600-1747170000@ascc.uk.com
SUMMARY:Madinah Level 4 Arabic Brothers Only
DESCRIPTION:
URL:https://ascc.uk.com/event/madinah-level-4-arabic/
LOCATION:Ashford & Staines Community Centre\, 774 London Rd\, Ashford\, TW14 8FP\, United Kingdom
CATEGORIES:Classes
END:VEVENT
BEGIN:VEVENT
DTSTART;TZID=UTC:20250402T193000
DTEND;TZID=UTC:20250402T213000
DTSTAMP:20260423T221705
CREATED:20250511T183757Z
LAST-MODIFIED:20250511T183757Z
UID:3277-1743622200-1743629400@ascc.uk.com
SUMMARY:Madinah Arabic Level 8
DESCRIPTION:
URL:https://ascc.uk.com/event/madinah-arabic-level-8/
LOCATION:Ashford & Staines Community Centre\, 774 London Rd\, Ashford\, TW14 8FP\, United Kingdom
CATEGORIES:Classes
END:VEVENT
BEGIN:VEVENT
DTSTART;TZID=UTC:20250410T040000
DTEND;TZID=UTC:20250410T050000
DTSTAMP:20260423T221705
CREATED:20250511T180012Z
LAST-MODIFIED:20250525T142553Z
UID:3268-1744257600-1744261200@ascc.uk.com
SUMMARY:A Year With The Qur'an
DESCRIPTION:The class time varies weekly; starts 15minutes after the Fajr jamaah at the Masjid\, and lasts for one hour.
URL:https://ascc.uk.com/event/a-year-with-the-quran/
LOCATION:Ashford & Staines Community Centre\, 774 London Rd\, Ashford\, TW14 8FP\, United Kingdom
CATEGORIES:Classes
END:VEVENT
BEGIN:VEVENT
DTSTART;TZID=UTC:20250524T080000
DTEND;TZID=UTC:20250524T090000
DTSTAMP:20260423T221705
CREATED:20250525T141624Z
LAST-MODIFIED:20250525T141624Z
UID:3286-1748073600-1748077200@ascc.uk.com
SUMMARY:Brothers Inshad Group
DESCRIPTION:
URL:https://ascc.uk.com/event/brothers-inshad-group/
LOCATION:Ashford & Staines Community Centre\, 774 London Rd\, Ashford\, TW14 8FP\, United Kingdom
CATEGORIES:Classes
END:VEVENT
BEGIN:VEVENT
DTSTART;TZID=UTC:20250104T100000
DTEND;TZID=UTC:20250104T123000
DTSTAMP:20260423T221705
CREATED:20250508T090255Z
LAST-MODIFIED:20250613T151434Z
UID:3227-1735984800-1735993800@ascc.uk.com
SUMMARY:Adult Islamic Studies
DESCRIPTION:
URL:https://ascc.uk.com/event/islamic-studies/
LOCATION:Ashford & Staines Community Centre\, 774 London Rd\, Ashford\, TW14 8FP\, United Kingdom
CATEGORIES:Classes
END:VEVENT
BEGIN:VEVENT
DTSTART;TZID=UTC:20250428T200000
DTEND;TZID=UTC:20250428T213000
DTSTAMP:20260423T221705
CREATED:20250511T174748Z
LAST-MODIFIED:20250511T174933Z
UID:3261-1745870400-1745875800@ascc.uk.com
SUMMARY:Madinah Arabic Level 1 Brothers
DESCRIPTION:
URL:https://ascc.uk.com/event/madinah-arabic-level-1-brothers/
LOCATION:Ashford & Staines Community Centre\, 774 London Rd\, Ashford\, TW14 8FP\, United Kingdom
CATEGORIES:Classes
END:VEVENT
BEGIN:VEVENT
DTSTART;TZID=UTC:20250513T193000
DTEND;TZID=UTC:20250513T210000
DTSTAMP:20260423T221705
CREATED:20250511T184047Z
LAST-MODIFIED:20250511T184303Z
UID:3280-1747164600-1747170000@ascc.uk.com
SUMMARY:Madinah Level 4 Arabic Brothers Only
DESCRIPTION:
URL:https://ascc.uk.com/event/madinah-level-4-arabic/
LOCATION:Ashford & Staines Community Centre\, 774 London Rd\, Ashford\, TW14 8FP\, United Kingdom
CATEGORIES:Classes
END:VEVENT
BEGIN:VEVENT
DTSTART;TZID=UTC:20250527T200000
DTEND;TZID=UTC:20250527T213000
DTSTAMP:20260423T221705
CREATED:20250525T142221Z
LAST-MODIFIED:20250525T144140Z
UID:3289-1748376000-1748381400@ascc.uk.com
SUMMARY:The Blessed 10 Days
DESCRIPTION:
URL:https://ascc.uk.com/event/the-blessed-10-days/
LOCATION:Ashford & Staines Community Centre\, 774 London Rd\, Ashford\, TW14 8FP\, United Kingdom
CATEGORIES:Classes
END:VEVENT
BEGIN:VEVENT
DTSTART;TZID=UTC:20250402T193000
DTEND;TZID=UTC:20250402T213000
DTSTAMP:20260423T221705
CREATED:20250511T183757Z
LAST-MODIFIED:20250511T183757Z
UID:3277-1743622200-1743629400@ascc.uk.com
SUMMARY:Madinah Arabic Level 8
DESCRIPTION:
URL:https://ascc.uk.com/event/madinah-arabic-level-8/
LOCATION:Ashford & Staines Community Centre\, 774 London Rd\, Ashford\, TW14 8FP\, United Kingdom
CATEGORIES:Classes
END:VEVENT
BEGIN:VEVENT
DTSTART;TZID=UTC:20250410T040000
DTEND;TZID=UTC:20250410T050000
DTSTAMP:20260423T221705
CREATED:20250511T180012Z
LAST-MODIFIED:20250525T142553Z
UID:3268-1744257600-1744261200@ascc.uk.com
SUMMARY:A Year With The Qur'an
DESCRIPTION:The class time varies weekly; starts 15minutes after the Fajr jamaah at the Masjid\, and lasts for one hour.
URL:https://ascc.uk.com/event/a-year-with-the-quran/
LOCATION:Ashford & Staines Community Centre\, 774 London Rd\, Ashford\, TW14 8FP\, United Kingdom
CATEGORIES:Classes
END:VEVENT
BEGIN:VEVENT
DTSTART;TZID=UTC:20250529T200000
DTEND;TZID=UTC:20250529T213000
DTSTAMP:20260423T221705
CREATED:20250525T144111Z
LAST-MODIFIED:20250525T144111Z
UID:3295-1748548800-1748554200@ascc.uk.com
SUMMARY:Life & Legacy of Prophet Ibrahim
DESCRIPTION:
URL:https://ascc.uk.com/event/life-legacy-of-prophet-ibrahim/
LOCATION:Ashford & Staines Community Centre\, 774 London Rd\, Ashford\, TW14 8FP\, United Kingdom
CATEGORIES:Classes
END:VEVENT
BEGIN:VEVENT
DTSTART;TZID=UTC:20250529T213000
DTEND;TZID=UTC:20250529T223000
DTSTAMP:20260423T221705
CREATED:20250525T144455Z
LAST-MODIFIED:20250526T071337Z
UID:3297-1748554200-1748557800@ascc.uk.com
SUMMARY:Zikr Majlis – 40 Salawat & Zikr
DESCRIPTION:
URL:https://ascc.uk.com/event/zikr-majlis-40-salawat-zikr/
LOCATION:Ashford & Staines Community Centre\, 774 London Rd\, Ashford\, TW14 8FP\, United Kingdom
CATEGORIES:Classes
END:VEVENT
BEGIN:VEVENT
DTSTART;TZID=UTC:20250529T200000
DTEND;TZID=UTC:20250529T213000
DTSTAMP:20260423T221705
CREATED:20250525T144111Z
LAST-MODIFIED:20250525T144111Z
UID:3295-1748548800-1748554200@ascc.uk.com
SUMMARY:Life & Legacy of Prophet Ibrahim
DESCRIPTION:
URL:https://ascc.uk.com/event/life-legacy-of-prophet-ibrahim/
LOCATION:Ashford & Staines Community Centre\, 774 London Rd\, Ashford\, TW14 8FP\, United Kingdom
CATEGORIES:Classes
END:VEVENT
BEGIN:VEVENT
DTSTART;TZID=UTC:20250524T080000
DTEND;TZID=UTC:20250524T090000
DTSTAMP:20260423T221705
CREATED:20250525T141624Z
LAST-MODIFIED:20250525T141624Z
UID:3286-1748073600-1748077200@ascc.uk.com
SUMMARY:Brothers Inshad Group
DESCRIPTION:
URL:https://ascc.uk.com/event/brothers-inshad-group/
LOCATION:Ashford & Staines Community Centre\, 774 London Rd\, Ashford\, TW14 8FP\, United Kingdom
CATEGORIES:Classes
END:VEVENT
BEGIN:VEVENT
DTSTART;TZID=UTC:20250104T100000
DTEND;TZID=UTC:20250104T123000
DTSTAMP:20260423T221705
CREATED:20250508T090255Z
LAST-MODIFIED:20250613T151434Z
UID:3227-1735984800-1735993800@ascc.uk.com
SUMMARY:Adult Islamic Studies
DESCRIPTION:
URL:https://ascc.uk.com/event/islamic-studies/
LOCATION:Ashford & Staines Community Centre\, 774 London Rd\, Ashford\, TW14 8FP\, United Kingdom
CATEGORIES:Classes
END:VEVENT
BEGIN:VEVENT
DTSTART;TZID=UTC:20250531T140000
DTEND;TZID=UTC:20250531T160000
DTSTAMP:20260423T221705
CREATED:20250511T183035Z
LAST-MODIFIED:20250525T142446Z
UID:3274-1748700000-1748707200@ascc.uk.com
SUMMARY:Storytelling Cafe
DESCRIPTION:
URL:https://ascc.uk.com/event/storytelling-cafe-3/
LOCATION:Ashford & Staines Community Centre\, 774 London Rd\, Ashford\, TW14 8FP\, United Kingdom
CATEGORIES:Event
END:VEVENT
BEGIN:VEVENT
DTSTART;TZID=UTC:20250529T200000
DTEND;TZID=UTC:20250529T213000
DTSTAMP:20260423T221705
CREATED:20250525T144111Z
LAST-MODIFIED:20250525T144111Z
UID:3295-1748548800-1748554200@ascc.uk.com
SUMMARY:Life & Legacy of Prophet Ibrahim
DESCRIPTION:
URL:https://ascc.uk.com/event/life-legacy-of-prophet-ibrahim/
LOCATION:Ashford & Staines Community Centre\, 774 London Rd\, Ashford\, TW14 8FP\, United Kingdom
CATEGORIES:Classes
END:VEVENT
BEGIN:VEVENT
DTSTART;TZID=UTC:20250428T200000
DTEND;TZID=UTC:20250428T213000
DTSTAMP:20260423T221705
CREATED:20250511T174748Z
LAST-MODIFIED:20250511T174933Z
UID:3261-1745870400-1745875800@ascc.uk.com
SUMMARY:Madinah Arabic Level 1 Brothers
DESCRIPTION:
URL:https://ascc.uk.com/event/madinah-arabic-level-1-brothers/
LOCATION:Ashford & Staines Community Centre\, 774 London Rd\, Ashford\, TW14 8FP\, United Kingdom
CATEGORIES:Classes
END:VEVENT
BEGIN:VEVENT
DTSTART;TZID=UTC:20250513T193000
DTEND;TZID=UTC:20250513T210000
DTSTAMP:20260423T221705
CREATED:20250511T184047Z
LAST-MODIFIED:20250511T184303Z
UID:3280-1747164600-1747170000@ascc.uk.com
SUMMARY:Madinah Level 4 Arabic Brothers Only
DESCRIPTION:
URL:https://ascc.uk.com/event/madinah-level-4-arabic/
LOCATION:Ashford & Staines Community Centre\, 774 London Rd\, Ashford\, TW14 8FP\, United Kingdom
CATEGORIES:Classes
END:VEVENT
BEGIN:VEVENT
DTSTART;TZID=UTC:20250402T193000
DTEND;TZID=UTC:20250402T213000
DTSTAMP:20260423T221705
CREATED:20250511T183757Z
LAST-MODIFIED:20250511T183757Z
UID:3277-1743622200-1743629400@ascc.uk.com
SUMMARY:Madinah Arabic Level 8
DESCRIPTION:
URL:https://ascc.uk.com/event/madinah-arabic-level-8/
LOCATION:Ashford & Staines Community Centre\, 774 London Rd\, Ashford\, TW14 8FP\, United Kingdom
CATEGORIES:Classes
END:VEVENT
BEGIN:VEVENT
DTSTART;TZID=UTC:20250410T040000
DTEND;TZID=UTC:20250410T050000
DTSTAMP:20260423T221705
CREATED:20250511T180012Z
LAST-MODIFIED:20250525T142553Z
UID:3268-1744257600-1744261200@ascc.uk.com
SUMMARY:A Year With The Qur'an
DESCRIPTION:The class time varies weekly; starts 15minutes after the Fajr jamaah at the Masjid\, and lasts for one hour.
URL:https://ascc.uk.com/event/a-year-with-the-quran/
LOCATION:Ashford & Staines Community Centre\, 774 London Rd\, Ashford\, TW14 8FP\, United Kingdom
CATEGORIES:Classes
END:VEVENT
BEGIN:VEVENT
DTSTART;TZID=UTC:20250605T213000
DTEND;TZID=UTC:20250605T223000
DTSTAMP:20260423T221705
CREATED:20250525T144631Z
LAST-MODIFIED:20250526T071420Z
UID:3300-1749159000-1749162600@ascc.uk.com
SUMMARY:Zikr Majlis – 40 Salawat & Zikr
DESCRIPTION:
URL:https://ascc.uk.com/event/zikr-majlis-40-salawat-zikr-2/
LOCATION:Ashford & Staines Community Centre\, 774 London Rd\, Ashford\, TW14 8FP\, United Kingdom
CATEGORIES:Classes
END:VEVENT
END:VCALENDAR