BEGIN:VCALENDAR
VERSION:2.0
PRODID:-//Ashford &amp; Staines Community Centre - ECPv6.15.15//NONSGML v1.0//EN
CALSCALE:GREGORIAN
METHOD:PUBLISH
X-WR-CALNAME:Ashford &amp; Staines Community Centre
X-ORIGINAL-URL:https://ascc.uk.com
X-WR-CALDESC:Events for Ashford &amp; Staines Community Centre
REFRESH-INTERVAL;VALUE=DURATION:PT1H
X-Robots-Tag:noindex
X-PUBLISHED-TTL:PT1H
BEGIN:VTIMEZONE
TZID:UTC
BEGIN:STANDARD
TZOFFSETFROM:+0000
TZOFFSETTO:+0000
TZNAME:UTC
DTSTART:20240101T000000
END:STANDARD
END:VTIMEZONE
BEGIN:VEVENT
DTSTART;TZID=UTC:20250227T200000
DTEND;TZID=UTC:20250227T210000
DTSTAMP:20260423T205613
CREATED:20250509T163926Z
LAST-MODIFIED:20250509T163926Z
UID:3249-1740686400-1740690000@ascc.uk.com
SUMMARY:Healthy Ramadan: Navigating Ramadan in a Healthier Way
DESCRIPTION:
URL:https://ascc.uk.com/event/healthy-ramadan-navigating-ramadan-in-a-healthier-way/
END:VEVENT
END:VCALENDAR