BEGIN:VCALENDAR
VERSION:2.0
PRODID:-//Ashford &amp; Staines Community Centre - ECPv6.15.15//NONSGML v1.0//EN
CALSCALE:GREGORIAN
METHOD:PUBLISH
X-ORIGINAL-URL:https://ascc.uk.com
X-WR-CALDESC:Events for Ashford &amp; Staines Community Centre
REFRESH-INTERVAL;VALUE=DURATION:PT1H
X-Robots-Tag:noindex
X-PUBLISHED-TTL:PT1H
BEGIN:VTIMEZONE
TZID:UTC
BEGIN:STANDARD
TZOFFSETFROM:+0000
TZOFFSETTO:+0000
TZNAME:UTC
DTSTART:20230101T000000
END:STANDARD
END:VTIMEZONE
BEGIN:VEVENT
DTSTART;TZID=UTC:20240812T080000
DTEND;TZID=UTC:20240820T170000
DTSTAMP:20260423T184941
CREATED:20240508T162547Z
LAST-MODIFIED:20240512T083154Z
UID:3115-1723449600-1724173200@ascc.uk.com
SUMMARY:Summer Muslim Family Retreat
DESCRIPTION:The annual Futuwwa Retreat is back this summer - with activities for the whole family. \nDetails and registration - https://www.futuwwaretreat.org/
URL:https://ascc.uk.com/event/summer-muslim-family-retreat/
LOCATION:Afyon\, Turkey
CATEGORIES:Event
ATTACH;FMTTYPE=image/jpeg:https://ascc.uk.com/wp-content/uploads/2024/05/IMG-20240430-WA0083.jpg
END:VEVENT
END:VCALENDAR